BEGIN:VCALENDAR
VERSION:2.0
PRODID:-//Milkwood Steiner School - ECPv4.6.21//NONSGML v1.0//EN
CALSCALE:GREGORIAN
METHOD:PUBLISH
X-WR-CALNAME:Milkwood Steiner School
X-ORIGINAL-URL:https://www.milkwood.nt.edu.au
X-WR-CALDESC:Events for Milkwood Steiner School
BEGIN:VEVENT
DTSTART;TZID=Australia/Darwin:20210208T081500
DTEND;TZID=Australia/Darwin:20210208T143500
DTSTAMP:20210226T042335
CREATED:20201210T065358Z
LAST-MODIFIED:20201210T065358Z
UID:2921-1612772100-1612794900@www.milkwood.nt.edu.au
SUMMARY:Bush Apple Kindergarten: Monday/ Tuesday Group start school
DESCRIPTION:
URL:https://www.milkwood.nt.edu.au/event/bush-apple-kindergarten-monday-tuesday-group-start-school/
END:VEVENT
END:VCALENDAR