BEGIN:VCALENDAR
VERSION:2.0
PRODID:-//Milkwood Steiner School - ECPv4.6.21//NONSGML v1.0//EN
CALSCALE:GREGORIAN
METHOD:PUBLISH
X-WR-CALNAME:Milkwood Steiner School
X-ORIGINAL-URL:https://www.milkwood.nt.edu.au
X-WR-CALDESC:Events for Milkwood Steiner School
BEGIN:VEVENT
DTSTART;TZID=Australia/Darwin:20210215T190000
DTEND;TZID=Australia/Darwin:20210215T200000
DTSTAMP:20210226T042412
CREATED:20210215T012434Z
LAST-MODIFIED:20210215T012453Z
UID:2979-1613415600-1613419200@www.milkwood.nt.edu.au
SUMMARY:Class 3 /4 Parent/ Teacher evening
DESCRIPTION:
URL:https://www.milkwood.nt.edu.au/event/class-3-4-parent-teacher-evening-2/
END:VEVENT
END:VCALENDAR