BEGIN:VCALENDAR
VERSION:2.0
PRODID:-//Milkwood Steiner School - ECPv4.6.21//NONSGML v1.0//EN
CALSCALE:GREGORIAN
METHOD:PUBLISH
X-WR-CALNAME:Milkwood Steiner School
X-ORIGINAL-URL:https://www.milkwood.nt.edu.au
X-WR-CALDESC:Events for Milkwood Steiner School
BEGIN:VEVENT
DTSTART;TZID=Australia/Darwin:20200310T083000
DTEND;TZID=Australia/Darwin:20200310T130000
DTSTAMP:20200301T230731
CREATED:20200220T003323Z
LAST-MODIFIED:20200220T003323Z
UID:2576-1583829000-1583845200@www.milkwood.nt.edu.au
SUMMARY:Class 4 /5 Excursion to Fogg Dam
DESCRIPTION:
URL:https://www.milkwood.nt.edu.au/event/class-4-5-excursion-to-fogg-dam/
END:VEVENT
END:VCALENDAR