BEGIN:VCALENDAR
VERSION:2.0
PRODID:-//Milkwood Steiner School - ECPv4.6.21//NONSGML v1.0//EN
CALSCALE:GREGORIAN
METHOD:PUBLISH
X-WR-CALNAME:Milkwood Steiner School
X-ORIGINAL-URL:https://www.milkwood.nt.edu.au
X-WR-CALDESC:Events for Milkwood Steiner School
BEGIN:VEVENT
DTSTART;TZID=Australia/Darwin:20200225T083000
DTEND;TZID=Australia/Darwin:20200225T130000
DTSTAMP:20200301T230710
CREATED:20200220T003220Z
LAST-MODIFIED:20200220T003220Z
UID:2574-1582619400-1582635600@www.milkwood.nt.edu.au
SUMMARY:Class 4/ 5 Excursion to Museum and Bullocky Point
DESCRIPTION:
URL:https://www.milkwood.nt.edu.au/event/class-4-5-excursion-to-museum-and-bullocky-point/
END:VEVENT
END:VCALENDAR