BEGIN:VCALENDAR
VERSION:2.0
PRODID:-//Milkwood Steiner School - ECPv4.6.21//NONSGML v1.0//EN
CALSCALE:GREGORIAN
METHOD:PUBLISH
X-WR-CALNAME:Milkwood Steiner School
X-ORIGINAL-URL:https://www.milkwood.nt.edu.au
X-WR-CALDESC:Events for Milkwood Steiner School
BEGIN:VEVENT
DTSTART;VALUE=DATE:20200410
DTEND;VALUE=DATE:20200411
DTSTAMP:20200301T232001
CREATED:20191211T035836Z
LAST-MODIFIED:20191211T035836Z
UID:2494-1586476800-1586563199@www.milkwood.nt.edu.au
SUMMARY:Good Friday - Public Holiday
DESCRIPTION:
URL:https://www.milkwood.nt.edu.au/event/good-friday-public-holiday/
END:VEVENT
END:VCALENDAR