BEGIN:VCALENDAR
VERSION:2.0
PRODID:-//Milkwood Steiner School - ECPv4.6.21//NONSGML v1.0//EN
CALSCALE:GREGORIAN
METHOD:PUBLISH
X-WR-CALNAME:Milkwood Steiner School
X-ORIGINAL-URL:https://www.milkwood.nt.edu.au
X-WR-CALDESC:Events for Milkwood Steiner School
BEGIN:VEVENT
DTSTART;VALUE=DATE:20200312
DTEND;VALUE=DATE:20200316
DTSTAMP:20200301T230754
CREATED:20191211T035716Z
LAST-MODIFIED:20200226T040703Z
UID:2492-1583971200-1584316799@www.milkwood.nt.edu.au
SUMMARY:Gudjeuk Festival Camp in Litchfield
DESCRIPTION:Come for whatever time you are able and meet your community in a relaxed bush setting. \nThe ‘Walks with Nature’ group have booked the Florence Falls special purpose camp. \n  \nIt is Gudjeuk time and the earth and its beings rejoice with all the rain. \nAnmorlak\, the billy goat plums are growing. \nAlmangiyi\, the long neck turtles are swimming around now the floodplains and creeks are flooded.  Ginga\, the saltwater crocodiles have made their nests and laid their eggs and djadi\, the frogs sing with the rain and spread lots of eggs in the water. \nBamurru\, the Magpie geese are preparing nests in the floodplain grasses and sedges. \nThe land is green\, green\, green! Inspiration for more songs\, stories and poems. \n  \nThe ‘Walks with Nature’ group have booked the Florence Falls special purpose camp. \nSo please join us for the festival\, to celebrate the season of Gudjeuk in the bush. \nPlease bring a coloured cloth and a candle and a basket or bag for nature walks. \nIf you have a song\, poem or story to share please bring that to. \nWe will bring the rest and ask a small charge of $10 / family/ day to contribute to the cost of materials for the festival. Please pay this even if you visit just for the day. Thank you. \n  \nFor those new comers to our festivals – \nThe facilities at the camp include showers\, toilets\, a swimming hole along the creek. \nTables\, chairs and a grassy mowed camp area\, \nLarge kitchen facility – but bring your own cooking or eating utensils. \nThere is a small fridge but ice in eskies is good because the fridge is not too cold. \nThere is a gas stove and oven. \nYou will need to take your rubbish away as the rangers do not do this. If you bring \ndisposable nappies you will need to take them away and not put in kitchen refuse bags to attract flies\, thanks. \n  \nUsually everyone prepares food for the evening meals and we lay out all the scrumptious food to share.  Breakfast and Lunch cater for your own needs. \nBring fruit for morning and afternoon teas (we often share this to) \n(Remember ‘Ursula and Greenie’s shop at Rapid creek has lovely fresh organic fruit and vegetables and grains) \n  \nThe cost for camping per night – \n$3.30/ adult      and      $1.70 / child \nDirections to the camp – \nDrive through Batchelor and out to the Florence Falls turn off. \nFollow the road to Florence Falls and you will see a sign off to the left to Buley Rock hole. Opposite this sign look to the right and you will see a dummie locked gate and a dirt track. Please dummie lock the gate to avoid other campers joining us. \nFollow the dirt track\, about 500 metres\, to the camp.  Hope to see you there! \nIf you are first there the key for kitchen and storeroom will be in the sink of the disabled toilets \nAny enquiries email Di Lucas before Thursday 12th March: dlucas@bigpond.net.au \n  \n  \n
URL:https://www.milkwood.nt.edu.au/event/gudjeuk-festival-camp-in-litchfield/
END:VEVENT
END:VCALENDAR