BEGIN:VCALENDAR
VERSION:2.0
PRODID:-//Milkwood Steiner School - ECPv4.6.21//NONSGML v1.0//EN
CALSCALE:GREGORIAN
METHOD:PUBLISH
X-WR-CALNAME:Milkwood Steiner School
X-ORIGINAL-URL:https://www.milkwood.nt.edu.au
X-WR-CALDESC:Events for Milkwood Steiner School
BEGIN:VEVENT
DTSTART;TZID=Australia/Darwin:20200320T144500
DTEND;TZID=Australia/Darwin:20200320T163000
DTSTAMP:20200301T230815
CREATED:20200123T055856Z
LAST-MODIFIED:20200219T035803Z
UID:2538-1584715500-1584721800@www.milkwood.nt.edu.au
SUMMARY:Milkwood Cafe hosted by Kindergarten and Class 1
DESCRIPTION:Join us on the verandahs for cake and treats! \n
URL:https://www.milkwood.nt.edu.au/event/milkwood-cafe-hosted-by-class-1/
END:VEVENT
END:VCALENDAR