BEGIN:VCALENDAR
VERSION:2.0
PRODID:-//Milkwood Steiner School - ECPv4.6.21//NONSGML v1.0//EN
CALSCALE:GREGORIAN
METHOD:PUBLISH
X-WR-CALNAME:Milkwood Steiner School
X-ORIGINAL-URL:https://www.milkwood.nt.edu.au
X-WR-CALDESC:Events for Milkwood Steiner School
BEGIN:VEVENT
DTSTART;TZID=Australia/Darwin:20210201T081500
DTEND;TZID=Australia/Darwin:20210201T143500
DTSTAMP:20210226T042209
CREATED:20201210T062825Z
LAST-MODIFIED:20201210T062825Z
UID:2915-1612167300-1612190100@www.milkwood.nt.edu.au
SUMMARY:Term 1 2021 starts for Primary School children
DESCRIPTION:
URL:https://www.milkwood.nt.edu.au/event/term-1-2021-starts-for-primary-school-children/
END:VEVENT
END:VCALENDAR