BEGIN:VCALENDAR
VERSION:2.0
PRODID:-//Milkwood Steiner School - ECPv4.6.21//NONSGML v1.0//EN
CALSCALE:GREGORIAN
METHOD:PUBLISH
X-WR-CALNAME:Milkwood Steiner School
X-ORIGINAL-URL:https://www.milkwood.nt.edu.au
X-WR-CALDESC:Events for Milkwood Steiner School
BEGIN:VEVENT
DTSTART;VALUE=DATE:20200413
DTEND;VALUE=DATE:20200418
DTSTAMP:20200301T232050
CREATED:20191211T040004Z
LAST-MODIFIED:20191211T040004Z
UID:2499-1586736000-1587167999@www.milkwood.nt.edu.au
SUMMARY:Term 1 holidays
DESCRIPTION:
URL:https://www.milkwood.nt.edu.au/event/term-1-holidays/
END:VEVENT
END:VCALENDAR