BEGIN:VCALENDAR
VERSION:2.0
PRODID:-//Milkwood Steiner School - ECPv4.6.21//NONSGML v1.0//EN
CALSCALE:GREGORIAN
METHOD:PUBLISH
X-WR-CALNAME:Milkwood Steiner School
X-ORIGINAL-URL:https://www.milkwood.nt.edu.au
X-WR-CALDESC:Events for Milkwood Steiner School
BEGIN:VEVENT
DTSTART;TZID=Australia/Darwin:20211102T081500
DTEND;TZID=Australia/Darwin:20211102T090000
DTSTAMP:20210226T041958
CREATED:20210209T014605Z
LAST-MODIFIED:20210209T014605Z
UID:2935-1635840900-1635843600@www.milkwood.nt.edu.au
SUMMARY:Cuppa with Principal
DESCRIPTION:Every first Tuesday of the month. \nAn open invitation to a cuppa st school drop off. Have a chat with the Principal and meet other parents. All welcome! \n
URL:https://www.milkwood.nt.edu.au/event/cuppa-with-principal/2021-11-02/
END:VEVENT
BEGIN:VEVENT
DTSTART;TZID=Australia/Darwin:20211005T081500
DTEND;TZID=Australia/Darwin:20211005T090000
DTSTAMP:20210226T041958
CREATED:20210209T014605Z
LAST-MODIFIED:20210209T014605Z
UID:2934-1633421700-1633424400@www.milkwood.nt.edu.au
SUMMARY:Cuppa with Principal
DESCRIPTION:Every first Tuesday of the month. \nAn open invitation to a cuppa st school drop off. Have a chat with the Principal and meet other parents. All welcome! \n
URL:https://www.milkwood.nt.edu.au/event/cuppa-with-principal/2021-10-05/
END:VEVENT
BEGIN:VEVENT
DTSTART;TZID=Australia/Darwin:20210907T081500
DTEND;TZID=Australia/Darwin:20210907T090000
DTSTAMP:20210226T041958
CREATED:20210209T014605Z
LAST-MODIFIED:20210209T014605Z
UID:2933-1631002500-1631005200@www.milkwood.nt.edu.au
SUMMARY:Cuppa with Principal
DESCRIPTION:Every first Tuesday of the month. \nAn open invitation to a cuppa st school drop off. Have a chat with the Principal and meet other parents. All welcome! \n
URL:https://www.milkwood.nt.edu.au/event/cuppa-with-principal/2021-09-07/
END:VEVENT
BEGIN:VEVENT
DTSTART;TZID=Australia/Darwin:20210803T081500
DTEND;TZID=Australia/Darwin:20210803T090000
DTSTAMP:20210226T041958
CREATED:20210209T014605Z
LAST-MODIFIED:20210209T014605Z
UID:2932-1627978500-1627981200@www.milkwood.nt.edu.au
SUMMARY:Cuppa with Principal
DESCRIPTION:Every first Tuesday of the month. \nAn open invitation to a cuppa st school drop off. Have a chat with the Principal and meet other parents. All welcome! \n
URL:https://www.milkwood.nt.edu.au/event/cuppa-with-principal/2021-08-03/
END:VEVENT
BEGIN:VEVENT
DTSTART;TZID=Australia/Darwin:20210802T080000
DTEND;TZID=Australia/Darwin:20210802T170000
DTSTAMP:20210226T041958
CREATED:20210209T060404Z
LAST-MODIFIED:20210209T060404Z
UID:2973-1627891200-1627923600@www.milkwood.nt.edu.au
SUMMARY:Picnic Day Public Holiday
DESCRIPTION:
URL:https://www.milkwood.nt.edu.au/event/picnic-day-public-holiday-3/
END:VEVENT
BEGIN:VEVENT
DTSTART;TZID=Australia/Darwin:20210723T080000
DTEND;TZID=Australia/Darwin:20210723T170000
DTSTAMP:20210226T041958
CREATED:20210209T060337Z
LAST-MODIFIED:20210209T060337Z
UID:2971-1627027200-1627059600@www.milkwood.nt.edu.au
SUMMARY:Darwin Show Day Public Holiday
DESCRIPTION:
URL:https://www.milkwood.nt.edu.au/event/darwin-show-day-public-holiday-2/
END:VEVENT
BEGIN:VEVENT
DTSTART;TZID=Australia/Darwin:20210720T081500
DTEND;TZID=Australia/Darwin:20210720T143500
DTSTAMP:20210226T041958
CREATED:20210209T055942Z
LAST-MODIFIED:20210209T055942Z
UID:2966-1626768900-1626791700@www.milkwood.nt.edu.au
SUMMARY:First Day of Term 3
DESCRIPTION:
URL:https://www.milkwood.nt.edu.au/event/first-day-of-term-3-2/
END:VEVENT
BEGIN:VEVENT
DTSTART;TZID=Australia/Darwin:20210706T081500
DTEND;TZID=Australia/Darwin:20210706T090000
DTSTAMP:20210226T041958
CREATED:20210209T014605Z
LAST-MODIFIED:20210209T014605Z
UID:2931-1625559300-1625562000@www.milkwood.nt.edu.au
SUMMARY:Cuppa with Principal
DESCRIPTION:Every first Tuesday of the month. \nAn open invitation to a cuppa st school drop off. Have a chat with the Principal and meet other parents. All welcome! \n
URL:https://www.milkwood.nt.edu.au/event/cuppa-with-principal/2021-07-06/
END:VEVENT
BEGIN:VEVENT
DTSTART;TZID=Australia/Darwin:20210628T081500
DTEND;TZID=Australia/Darwin:20210716T143500
DTSTAMP:20210226T041958
CREATED:20210209T055834Z
LAST-MODIFIED:20210209T055906Z
UID:2963-1624868100-1626446100@www.milkwood.nt.edu.au
SUMMARY:School Holidays
DESCRIPTION:
URL:https://www.milkwood.nt.edu.au/event/last-day-of-term-2-2/
END:VEVENT
BEGIN:VEVENT
DTSTART;TZID=Australia/Darwin:20210614T080000
DTEND;TZID=Australia/Darwin:20210614T170000
DTSTAMP:20210226T041958
CREATED:20210209T055729Z
LAST-MODIFIED:20210209T055729Z
UID:2961-1623657600-1623690000@www.milkwood.nt.edu.au
SUMMARY:Queen's Birthday Public Holiday
DESCRIPTION:
URL:https://www.milkwood.nt.edu.au/event/queens-birthday-public-holiday-3/
END:VEVENT
BEGIN:VEVENT
DTSTART;TZID=Australia/Darwin:20210601T081500
DTEND;TZID=Australia/Darwin:20210601T090000
DTSTAMP:20210226T041958
CREATED:20210209T014605Z
LAST-MODIFIED:20210209T014605Z
UID:2930-1622535300-1622538000@www.milkwood.nt.edu.au
SUMMARY:Cuppa with Principal
DESCRIPTION:Every first Tuesday of the month. \nAn open invitation to a cuppa st school drop off. Have a chat with the Principal and meet other parents. All welcome! \n
URL:https://www.milkwood.nt.edu.au/event/cuppa-with-principal/2021-06-01/
END:VEVENT
BEGIN:VEVENT
DTSTART;TZID=Australia/Darwin:20210504T081500
DTEND;TZID=Australia/Darwin:20210504T090000
DTSTAMP:20210226T041958
CREATED:20210209T014605Z
LAST-MODIFIED:20210209T014605Z
UID:2929-1620116100-1620118800@www.milkwood.nt.edu.au
SUMMARY:Cuppa with Principal
DESCRIPTION:Every first Tuesday of the month. \nAn open invitation to a cuppa st school drop off. Have a chat with the Principal and meet other parents. All welcome! \n
URL:https://www.milkwood.nt.edu.au/event/cuppa-with-principal/2021-05-04/
END:VEVENT
BEGIN:VEVENT
DTSTART;TZID=Australia/Darwin:20210503T080000
DTEND;TZID=Australia/Darwin:20210503T170000
DTSTAMP:20210226T041958
CREATED:20210209T032656Z
LAST-MODIFIED:20210209T032656Z
UID:2959-1620028800-1620061200@www.milkwood.nt.edu.au
SUMMARY:May Day Public Holiday
DESCRIPTION:
URL:https://www.milkwood.nt.edu.au/event/may-day-public-holiday-3/
END:VEVENT
BEGIN:VEVENT
DTSTART;TZID=Australia/Darwin:20210419T081500
DTEND;TZID=Australia/Darwin:20210419T143500
DTSTAMP:20210226T041958
CREATED:20210209T032628Z
LAST-MODIFIED:20210209T032628Z
UID:2957-1618820100-1618842900@www.milkwood.nt.edu.au
SUMMARY:First day of Term 2
DESCRIPTION:
URL:https://www.milkwood.nt.edu.au/event/first-day-of-term-2-2/
END:VEVENT
BEGIN:VEVENT
DTSTART;TZID=Australia/Darwin:20210412T080000
DTEND;TZID=Australia/Darwin:20210416T170000
DTSTAMP:20210226T041958
CREATED:20210209T032551Z
LAST-MODIFIED:20210209T032551Z
UID:2955-1618214400-1618592400@www.milkwood.nt.edu.au
SUMMARY:School holidays
DESCRIPTION:
URL:https://www.milkwood.nt.edu.au/event/school-holidays-2/
END:VEVENT
BEGIN:VEVENT
DTSTART;TZID=Australia/Darwin:20210406T081500
DTEND;TZID=Australia/Darwin:20210406T090000
DTSTAMP:20210226T041958
CREATED:20210209T014605Z
LAST-MODIFIED:20210209T014605Z
UID:2928-1617696900-1617699600@www.milkwood.nt.edu.au
SUMMARY:Cuppa with Principal
DESCRIPTION:Every first Tuesday of the month. \nAn open invitation to a cuppa st school drop off. Have a chat with the Principal and meet other parents. All welcome! \n
URL:https://www.milkwood.nt.edu.au/event/cuppa-with-principal/2021-04-06/
END:VEVENT
BEGIN:VEVENT
DTSTART;TZID=Australia/Darwin:20210405T080000
DTEND;TZID=Australia/Darwin:20210405T170000
DTSTAMP:20210226T041958
CREATED:20210209T032514Z
LAST-MODIFIED:20210209T032514Z
UID:2953-1617609600-1617642000@www.milkwood.nt.edu.au
SUMMARY:Easter Monday Public Holiday
DESCRIPTION:
URL:https://www.milkwood.nt.edu.au/event/easter-monday-public-holiday-3/
END:VEVENT
BEGIN:VEVENT
DTSTART;TZID=Australia/Darwin:20210402T080000
DTEND;TZID=Australia/Darwin:20210402T170000
DTSTAMP:20210226T041958
CREATED:20210225T023623Z
LAST-MODIFIED:20210225T023637Z
UID:3027-1617350400-1617382800@www.milkwood.nt.edu.au
SUMMARY:Good Friday - Public Holiday
DESCRIPTION:
URL:https://www.milkwood.nt.edu.au/event/good-friday-public-holiday-3/
END:VEVENT
BEGIN:VEVENT
DTSTART;TZID=Australia/Darwin:20210330T180000
DTEND;TZID=Australia/Darwin:20210330T190000
DTSTAMP:20210226T041958
CREATED:20210215T063111Z
LAST-MODIFIED:20210215T063111Z
UID:2991-1617127200-1617130800@www.milkwood.nt.edu.au
SUMMARY:Steiner Education: Supporting Literacy at Home. A Workshop by Janet Harrington for Parents and Educators.
DESCRIPTION:Steiner Education: Supporting Literacy at Home at Milkwood Steiner School \n  \n  \n
URL:https://www.milkwood.nt.edu.au/event/steiner-education-supporting-literacy-at-home-a-workshop-by-janet-harrington-for-parents-and-educators/
END:VEVENT
BEGIN:VEVENT
DTSTART;TZID=Australia/Darwin:20210318T080000
DTEND;TZID=Australia/Darwin:20210321T170000
DTSTAMP:20210226T041958
CREATED:20210215T013212Z
LAST-MODIFIED:20210215T014814Z
UID:2989-1616054400-1616346000@www.milkwood.nt.edu.au
SUMMARY:Gudjeuk Seasonal Festival
DESCRIPTION:It is Gudjeuk time and the earth and its beings rejoice with all the rain. \nAnmorlak\, the billy goat plums are growing. \nAlmangiyi\, the long neck turtles are swimming around now the floodplains and creeks are flooded.  Ginga\, the saltwater crocodiles have made their nests and laid their eggs and djadi\, the frogs sing with the rain and spread lots of eggs in the water. \nBamurru\, the Magpie geese are preparing nests in the floodplain grasses and sedges. \nThe land is green\, green\, green! Inspiration for more songs\, stories and poems. \n  \nThe ‘Walks with Nature’ group have booked the Florence Falls special purpose camp. \nSo please join us for the festival\, to celebrate the season of Gudjeuk in the bush. \nPlease bring a coloured cloth and a candle and a basket or bag for nature walks. \nIf you have a song\, poem or story to share please bring that to. \nWe will bring the rest and ask a small charge of $10 / family/ day to contribute to the cost of materials for the festival. Please pay this even if you visit just for the day. Thank you. \n  \nFor those new comers to our festivals – \nThe facilities at the camp include showers\, toilets\, a swimming hole along the creek. \nTables\, chairs and a grassy mowed camp area\, \nLarge kitchen facility – but bring your own cooking or eating utensils. \nThere is a small fridge but ice in eskies is good because the fridge is not too cold. \nThere is a gas stove and oven. \nYou will need to take your rubbish away as the rangers do not do this. If you bring \ndisposable nappies you will need to take them away and not put in kitchen refuse bags to attract flies\, thanks. \n  \nUsually families prepare food for the evening meals and we lay out all the scrumptious food to share.  Breakfast and Lunch cater for your own needs. \nBring fruit for morning and afternoon teas (we often share this to) \n(Remember ‘Ursula and Greenie’s shop at Rapid creek has lovely fresh organic fruit and vegetables and grains) \n  \nThe cost for camping per night – \n$3.30/ adult      and      $1.65 / child \nDirections to the camp – \nDrive through Batchelor and out to the Florence Falls turn off. \nFollow the road to Florence Falls and you will see a sign off to the left to Buley Rock hole. Opposite this sign look to the right and you will see a dummie locked gate and a dirt track. Please dummie lock the gate to avoid other campers joining us. \nFollow the dirt track\, about 500 metres\, to the camp.  Hope to see you there! \nIf you are first there the key for kitchen and storeroom will be in the sink of the disabled toilets \nAny enquiries email Di Lucas before Thursday 18th March: dlucas@bigpond.net.au \n  \n  \n  \n
URL:https://www.milkwood.nt.edu.au/event/gudjeuk-seasonal-festival/
END:VEVENT
BEGIN:VEVENT
DTSTART;TZID=Australia/Darwin:20210302T081500
DTEND;TZID=Australia/Darwin:20210302T090000
DTSTAMP:20210226T041958
CREATED:20210209T014605Z
LAST-MODIFIED:20210209T014701Z
UID:2926-1614672900-1614675600@www.milkwood.nt.edu.au
SUMMARY:Cuppa with Principal
DESCRIPTION:Every first Tuesday of the month. \nAn open invitation to a cuppa st school drop off. Have a chat with the Principal and meet other parents. All welcome! \n
URL:https://www.milkwood.nt.edu.au/event/cuppa-with-principal/2021-03-02/
END:VEVENT
END:VCALENDAR